Package: FastqCleaner Version: 1.22.0 Command: F:\biocbuild\bbs-3.19-bioc\R\bin\R.exe CMD check --no-multiarch --install=check:FastqCleaner.install-out.txt --library=F:\biocbuild\bbs-3.19-bioc\R\library --no-vignettes --timings FastqCleaner_1.22.0.tar.gz StartedAt: 2024-06-27 01:34:57 -0400 (Thu, 27 Jun 2024) EndedAt: 2024-06-27 01:40:19 -0400 (Thu, 27 Jun 2024) EllapsedTime: 321.7 seconds RetCode: 0 Status: OK CheckDir: FastqCleaner.Rcheck Warnings: 0