Package: FastqCleaner Version: 1.22.0 Command: /home/biocbuild/bbs-3.19-bioc/R/bin/R CMD build --keep-empty-dirs --no-resave-data FastqCleaner StartedAt: 2024-10-16 18:28:35 -0400 (Wed, 16 Oct 2024) EndedAt: 2024-10-16 18:29:50 -0400 (Wed, 16 Oct 2024) EllapsedTime: 75.1 seconds RetCode: 0 Status: OK PackageFile: FastqCleaner_1.22.0.tar.gz PackageFileSize: 4.276 MiB