Package: FastqCleaner Version: 1.22.0 Command: rm -rf FastqCleaner.buildbin-libdir && mkdir FastqCleaner.buildbin-libdir && /Users/biocbuild/BBS/utils/build-universal.sh FastqCleaner_1.22.0.tar.gz /Library/Frameworks/R.framework/Resources/bin/R FastqCleaner.buildbin-libdir StartedAt: 2024-10-17 16:08:58 -0400 (Thu, 17 Oct 2024) EndedAt: 2024-10-17 16:10:52 -0400 (Thu, 17 Oct 2024) EllapsedTime: 114.7 seconds RetCode: 0 Status: OK PackageFile: FastqCleaner_1.22.0.tgz PackageFileSize: 3.773 MiB