Package: FamAgg Version: 1.32.0 Command: chmod a+r FamAgg -R && E:\biocbuild\bbs-3.19-bioc\R\bin\R.exe CMD build --keep-empty-dirs --no-resave-data FamAgg StartedAt: 2024-10-16 19:06:03 -0400 (Wed, 16 Oct 2024) EndedAt: 2024-10-16 19:09:03 -0400 (Wed, 16 Oct 2024) EllapsedTime: 179.9 seconds RetCode: 0 Status: OK PackageFile: FamAgg_1.32.0.tar.gz PackageFileSize: 941.2 KiB