Package: FamAgg Version: 1.32.0 Command: chmod a+r FamAgg -R && F:\biocbuild\bbs-3.19-bioc\R\bin\R.exe CMD build --keep-empty-dirs --no-resave-data FamAgg StartedAt: 2024-06-26 18:48:21 -0400 (Wed, 26 Jun 2024) EndedAt: 2024-06-26 18:51:51 -0400 (Wed, 26 Jun 2024) EllapsedTime: 210.4 seconds RetCode: 0 Status: OK PackageFile: FamAgg_1.32.0.tar.gz PackageFileSize: 941.6 KiB