Package: FamAgg Version: 1.32.0 Command: /Library/Frameworks/R.framework/Resources/bin/R CMD check --install=check:FamAgg.install-out.txt --library=/Library/Frameworks/R.framework/Resources/library --no-vignettes --timings FamAgg_1.32.0.tar.gz StartedAt: 2024-06-10 15:31:51 -0400 (Mon, 10 Jun 2024) EndedAt: 2024-06-10 15:35:30 -0400 (Mon, 10 Jun 2024) EllapsedTime: 218.7 seconds RetCode: 0 Status: OK CheckDir: FamAgg.Rcheck Warnings: 0