Package: FScanR Version: 1.14.0 Command: chmod a+r FScanR -R && F:\biocbuild\bbs-3.19-bioc\R\bin\R.exe CMD build --keep-empty-dirs --no-resave-data FScanR StartedAt: 2024-06-26 19:01:27 -0400 (Wed, 26 Jun 2024) EndedAt: 2024-06-26 19:01:37 -0400 (Wed, 26 Jun 2024) EllapsedTime: 9.6 seconds RetCode: 0 Status: OK PackageFile: FScanR_1.14.0.tar.gz PackageFileSize: 905.1 KiB