Package: FScanR Version: 1.14.0 Command: /Library/Frameworks/R.framework/Resources/bin/R CMD build --keep-empty-dirs --no-resave-data FScanR StartedAt: 2024-06-09 16:42:16 -0400 (Sun, 09 Jun 2024) EndedAt: 2024-06-09 16:42:25 -0400 (Sun, 09 Jun 2024) EllapsedTime: 9.0 seconds RetCode: 0 Status: OK PackageFile: FScanR_1.14.0.tar.gz PackageFileSize: 925.7 KiB