Package: FScanR Version: 1.14.0 Command: /Library/Frameworks/R.framework/Resources/bin/R CMD check --install=check:FScanR.install-out.txt --library=/Library/Frameworks/R.framework/Resources/library --no-vignettes --timings FScanR_1.14.0.tar.gz StartedAt: 2024-06-10 16:09:31 -0400 (Mon, 10 Jun 2024) EndedAt: 2024-06-10 16:10:11 -0400 (Mon, 10 Jun 2024) EllapsedTime: 40.3 seconds RetCode: 0 Status: OK CheckDir: FScanR.Rcheck Warnings: 0