Package: FScanR Version: 1.14.0 Command: rm -rf FScanR.buildbin-libdir && mkdir FScanR.buildbin-libdir && /Users/biocbuild/BBS/utils/build-universal.sh FScanR_1.14.0.tar.gz /Library/Frameworks/R.framework/Resources/bin/R FScanR.buildbin-libdir StartedAt: 2024-10-18 18:33:42 -0400 (Fri, 18 Oct 2024) EndedAt: 2024-10-18 18:33:46 -0400 (Fri, 18 Oct 2024) EllapsedTime: 4.6 seconds RetCode: 0 Status: OK PackageFile: FScanR_1.14.0.tgz PackageFileSize: 943.4 KiB