Package: FRGEpistasis Version: 1.40.0 Command: chmod a+r FRGEpistasis -R && F:\biocbuild\bbs-3.19-bioc\R\bin\R.exe CMD build --keep-empty-dirs --no-resave-data FRGEpistasis StartedAt: 2024-06-26 19:01:07 -0400 (Wed, 26 Jun 2024) EndedAt: 2024-06-26 19:01:27 -0400 (Wed, 26 Jun 2024) EllapsedTime: 20.3 seconds RetCode: 0 Status: OK PackageFile: FRGEpistasis_1.40.0.tar.gz PackageFileSize: 223.1 KiB