Package: FRGEpistasis Version: 1.40.0 Maintainer: Futao Zhang MaintainerEmail: futoaz at gmail.com git_url: https://git.bioconductor.org/packages/FRGEpistasis git_branch: RELEASE_3_19 git_last_commit: aeef94c git_last_commit_date: 2024-04-30 10:35:59 -0400 (Tue, 30 Apr 2024)