Package: FRASER Version: 2.0.0 Command: rm -rf FRASER.buildbin-libdir && mkdir FRASER.buildbin-libdir && E:\biocbuild\bbs-3.19-bioc\R\bin\R.exe CMD INSTALL --build --library=FRASER.buildbin-libdir FRASER_2.0.0.tar.gz StartedAt: 2024-10-17 07:48:58 -0400 (Thu, 17 Oct 2024) EndedAt: 2024-10-17 07:51:16 -0400 (Thu, 17 Oct 2024) EllapsedTime: 138.4 seconds RetCode: 0 Status: OK PackageFile: FRASER_2.0.0.zip PackageFileSize: 3.181 MiB