Package: FRASER Version: 2.0.0 Command: rm -rf FRASER.buildbin-libdir && mkdir FRASER.buildbin-libdir && /Users/biocbuild/BBS/utils/build-universal.sh FRASER_2.0.0.tar.gz /Library/Frameworks/R.framework/Resources/bin/R FRASER.buildbin-libdir StartedAt: 2024-05-27 01:37:19 -0400 (Mon, 27 May 2024) EndedAt: 2024-05-27 01:39:19 -0400 (Mon, 27 May 2024) EllapsedTime: 120.0 seconds RetCode: 0 Status: OK PackageFile: FRASER_2.0.0.tgz PackageFileSize: 3.338 MiB