Package: FRASER Version: 2.0.0 Command: /Library/Frameworks/R.framework/Resources/bin/R CMD build --keep-empty-dirs --no-resave-data FRASER StartedAt: 2024-10-17 00:43:25 -0400 (Thu, 17 Oct 2024) EndedAt: 2024-10-17 00:48:38 -0400 (Thu, 17 Oct 2024) EllapsedTime: 312.4 seconds RetCode: 0 Status: OK PackageFile: FRASER_2.0.0.tar.gz PackageFileSize: 2.384 MiB