Package: FLAMES Version: 1.10.3 Command: /home/biocbuild/bbs-3.19-bioc/R/bin/R CMD INSTALL FLAMES StartedAt: 2024-10-16 16:39:02 -0400 (Wed, 16 Oct 2024) EndedAt: 2024-10-16 16:40:42 -0400 (Wed, 16 Oct 2024) EllapsedTime: 100.6 seconds RetCode: 0 Status: OK