Package: FLAMES Version: 1.10.3 Command: /home/biocbuild/bbs-3.19-bioc/R/bin/R CMD check --install=check:FLAMES.install-out.txt --library=/home/biocbuild/bbs-3.19-bioc/R/site-library --timings FLAMES_1.10.3.tar.gz StartedAt: 2024-10-17 00:28:12 -0400 (Thu, 17 Oct 2024) EndedAt: 2024-10-17 00:39:32 -0400 (Thu, 17 Oct 2024) EllapsedTime: 679.6 seconds RetCode: 0 Status: OK CheckDir: FLAMES.Rcheck Warnings: 0