Package: FLAMES Version: 1.10.3 Command: /Library/Frameworks/R.framework/Resources/bin/R CMD build --keep-empty-dirs --no-resave-data FLAMES StartedAt: 2024-10-16 19:16:16 -0400 (Wed, 16 Oct 2024) EndedAt: 2024-10-16 19:22:23 -0400 (Wed, 16 Oct 2024) EllapsedTime: 366.5 seconds RetCode: 0 Status: OK PackageFile: FLAMES_1.10.3.tar.gz PackageFileSize: 3.839 MiB