Package: FLAMES Version: 1.10.0 Command: /Library/Frameworks/R.framework/Resources/bin/R CMD INSTALL FLAMES StartedAt: 2024-06-09 17:19:25 -0400 (Sun, 09 Jun 2024) EndedAt: 2024-06-09 17:21:05 -0400 (Sun, 09 Jun 2024) EllapsedTime: 100.1 seconds RetCode: 1 Status: ERROR