Package: FLAMES Version: 1.10.3 Command: /Library/Frameworks/R.framework/Resources/bin/R CMD INSTALL FLAMES StartedAt: 2024-10-16 18:27:00 -0400 (Wed, 16 Oct 2024) EndedAt: 2024-10-16 18:28:59 -0400 (Wed, 16 Oct 2024) EllapsedTime: 118.9 seconds RetCode: 0 Status: OK