Package: FLAMES Version: 1.10.3 Command: /Library/Frameworks/R.framework/Resources/bin/R CMD build --keep-empty-dirs --no-resave-data FLAMES StartedAt: 2024-10-17 00:31:32 -0400 (Thu, 17 Oct 2024) EndedAt: 2024-10-17 00:34:32 -0400 (Thu, 17 Oct 2024) EllapsedTime: 180.3 seconds RetCode: 0 Status: OK PackageFile: FLAMES_1.10.3.tar.gz PackageFileSize: 3.839 MiB