Package: FISHalyseR Version: 1.38.0 Command: chmod a+r FISHalyseR -R && E:\biocbuild\bbs-3.19-bioc\R\bin\R.exe CMD build --keep-empty-dirs --no-resave-data FISHalyseR StartedAt: 2024-10-16 19:10:01 -0400 (Wed, 16 Oct 2024) EndedAt: 2024-10-16 19:15:00 -0400 (Wed, 16 Oct 2024) EllapsedTime: 299.1 seconds RetCode: 0 Status: OK PackageFile: FISHalyseR_1.38.0.tar.gz PackageFileSize: 782.6 KiB