Package: FISHalyseR Version: 1.38.0 Command: rm -rf FISHalyseR.buildbin-libdir && mkdir FISHalyseR.buildbin-libdir && E:\biocbuild\bbs-3.19-bioc\R\bin\R.exe CMD INSTALL --build --library=FISHalyseR.buildbin-libdir FISHalyseR_1.38.0.tar.gz StartedAt: 2024-10-17 07:47:55 -0400 (Thu, 17 Oct 2024) EndedAt: 2024-10-17 07:48:10 -0400 (Thu, 17 Oct 2024) EllapsedTime: 14.8 seconds RetCode: 0 Status: OK PackageFile: FISHalyseR_1.38.0.zip PackageFileSize: 833.9 KiB