Package: FISHalyseR Version: 1.38.0 Command: chmod a+r FISHalyseR -R && F:\biocbuild\bbs-3.19-bioc\R\bin\R.exe CMD build --keep-empty-dirs --no-resave-data FISHalyseR StartedAt: 2024-06-26 18:53:23 -0400 (Wed, 26 Jun 2024) EndedAt: 2024-06-26 18:58:38 -0400 (Wed, 26 Jun 2024) EllapsedTime: 314.6 seconds RetCode: 0 Status: OK PackageFile: FISHalyseR_1.38.0.tar.gz PackageFileSize: 782.6 KiB