Package: FISHalyseR Version: 1.38.0 Command: /home/biocbuild/bbs-3.19-bioc/R/bin/R CMD check --install=check:FISHalyseR.install-out.txt --library=/home/biocbuild/bbs-3.19-bioc/R/site-library --timings FISHalyseR_1.38.0.tar.gz StartedAt: 2024-10-17 00:26:43 -0400 (Thu, 17 Oct 2024) EndedAt: 2024-10-17 00:27:34 -0400 (Thu, 17 Oct 2024) EllapsedTime: 51.1 seconds RetCode: 0 Status: WARNINGS CheckDir: FISHalyseR.Rcheck Warnings: 2