Package: FISHalyseR Version: 1.38.0 Command: /home/biocbuild/bbs-3.19-bioc/R/bin/R CMD build --keep-empty-dirs --no-resave-data FISHalyseR StartedAt: 2024-10-16 18:30:37 -0400 (Wed, 16 Oct 2024) EndedAt: 2024-10-16 18:30:54 -0400 (Wed, 16 Oct 2024) EllapsedTime: 17.0 seconds RetCode: 0 Status: OK PackageFile: FISHalyseR_1.38.0.tar.gz PackageFileSize: 781.5 KiB