Package: FISHalyseR Version: 1.38.0 Command: /Library/Frameworks/R.framework/Resources/bin/R CMD check --install=check:FISHalyseR.install-out.txt --library=/Library/Frameworks/R.framework/Resources/library --no-vignettes --timings FISHalyseR_1.38.0.tar.gz StartedAt: 2024-10-17 05:20:37 -0400 (Thu, 17 Oct 2024) EndedAt: 2024-10-17 05:22:26 -0400 (Thu, 17 Oct 2024) EllapsedTime: 109.2 seconds RetCode: 0 Status: WARNINGS CheckDir: FISHalyseR.Rcheck Warnings: 2