Package: FISHalyseR Version: 1.38.0 Command: /Library/Frameworks/R.framework/Resources/bin/R CMD build --keep-empty-dirs --no-resave-data FISHalyseR StartedAt: 2024-10-16 19:16:02 -0400 (Wed, 16 Oct 2024) EndedAt: 2024-10-16 19:16:51 -0400 (Wed, 16 Oct 2024) EllapsedTime: 49.5 seconds RetCode: 0 Status: OK PackageFile: FISHalyseR_1.38.0.tar.gz PackageFileSize: 781.5 KiB