Package: FISHalyseR Version: 1.38.0 Command: /Library/Frameworks/R.framework/Resources/bin/R CMD build --keep-empty-dirs --no-resave-data FISHalyseR StartedAt: 2024-06-09 16:39:54 -0400 (Sun, 09 Jun 2024) EndedAt: 2024-06-09 16:40:19 -0400 (Sun, 09 Jun 2024) EllapsedTime: 24.9 seconds RetCode: 0 Status: OK PackageFile: FISHalyseR_1.38.0.tar.gz PackageFileSize: 781.5 KiB