Package: FISHalyseR Version: 1.38.0 Command: /Library/Frameworks/R.framework/Resources/bin/R CMD check --install=check:FISHalyseR.install-out.txt --library=/Library/Frameworks/R.framework/Resources/library --no-vignettes --timings FISHalyseR_1.38.0.tar.gz StartedAt: 2024-06-10 15:48:07 -0400 (Mon, 10 Jun 2024) EndedAt: 2024-06-10 15:49:46 -0400 (Mon, 10 Jun 2024) EllapsedTime: 98.8 seconds RetCode: 0 Status: WARNINGS CheckDir: FISHalyseR.Rcheck Warnings: 2