Package: FISHalyseR Version: 1.38.0 Command: rm -rf FISHalyseR.buildbin-libdir && mkdir FISHalyseR.buildbin-libdir && /Users/biocbuild/BBS/utils/build-universal.sh FISHalyseR_1.38.0.tar.gz /Library/Frameworks/R.framework/Resources/bin/R FISHalyseR.buildbin-libdir StartedAt: 2024-06-11 11:14:27 -0400 (Tue, 11 Jun 2024) EndedAt: 2024-06-11 11:14:39 -0400 (Tue, 11 Jun 2024) EllapsedTime: 12.7 seconds RetCode: 0 Status: OK PackageFile: FISHalyseR_1.38.0.tgz PackageFileSize: 830.7 KiB