Package: FISHalyseR Version: 1.38.0 Command: rm -rf FISHalyseR.buildbin-libdir && mkdir FISHalyseR.buildbin-libdir && /Users/biocbuild/BBS/utils/build-universal.sh FISHalyseR_1.38.0.tar.gz /Library/Frameworks/R.framework/Resources/bin/R FISHalyseR.buildbin-libdir StartedAt: 2024-10-18 18:29:46 -0400 (Fri, 18 Oct 2024) EndedAt: 2024-10-18 18:29:55 -0400 (Fri, 18 Oct 2024) EllapsedTime: 8.0 seconds RetCode: 0 Status: OK PackageFile: FISHalyseR_1.38.0.tgz PackageFileSize: 830.7 KiB