Package: FGNet Version: 3.38.0 Command: chmod a+r FGNet -R && F:\biocbuild\bbs-3.19-bioc\R\bin\R.exe CMD build --keep-empty-dirs --no-resave-data FGNet StartedAt: 2024-06-26 18:52:49 -0400 (Wed, 26 Jun 2024) EndedAt: 2024-06-26 18:53:50 -0400 (Wed, 26 Jun 2024) EllapsedTime: 60.7 seconds RetCode: 0 Status: OK PackageFile: FGNet_3.38.0.tar.gz PackageFileSize: 2.72 MiB