Package: FELLA Version: 1.24.0 Command: /Library/Frameworks/R.framework/Resources/bin/R CMD build --keep-empty-dirs --no-resave-data FELLA StartedAt: 2024-10-17 00:24:32 -0400 (Thu, 17 Oct 2024) EndedAt: 2024-10-17 00:59:15 -0400 (Thu, 17 Oct 2024) EllapsedTime: 2082.9 seconds RetCode: 0 Status: OK PackageFile: FELLA_1.24.0.tar.gz PackageFileSize: 4.294 MiB