Package: FEAST Version: 1.12.0 Command: /Library/Frameworks/R.framework/Resources/bin/R CMD build --keep-empty-dirs --no-resave-data FEAST StartedAt: 2024-10-16 19:13:48 -0400 (Wed, 16 Oct 2024) EndedAt: 2024-10-16 19:16:18 -0400 (Wed, 16 Oct 2024) EllapsedTime: 150.3 seconds RetCode: 0 Status: OK PackageFile: FEAST_1.12.0.tar.gz PackageFileSize: 3.456 MiB