Package: FEAST Version: 1.12.0 Command: /Library/Frameworks/R.framework/Resources/bin/R CMD check --install=check:FEAST.install-out.txt --library=/Library/Frameworks/R.framework/Resources/library --no-vignettes --timings FEAST_1.12.0.tar.gz StartedAt: 2024-06-09 20:21:35 -0400 (Sun, 09 Jun 2024) EndedAt: 2024-06-09 20:25:15 -0400 (Sun, 09 Jun 2024) EllapsedTime: 220.0 seconds RetCode: 0 Status: OK CheckDir: FEAST.Rcheck Warnings: 0