Package: FEAST Version: 1.12.0 Command: /home/biocbuild/R/R-beta-2024-04-15_r86425/bin/R CMD build --keep-empty-dirs --no-resave-data FEAST StartedAt: 2024-05-09 00:16:30 -0000 (Thu, 09 May 2024) EndedAt: 2024-05-09 00:17:56 -0000 (Thu, 09 May 2024) EllapsedTime: 85.1 seconds RetCode: 0 Status: OK PackageFile: FEAST_1.12.0.tar.gz PackageFileSize: 3.464 MiB