Package: FCBF Version: 2.12.0 Command: chmod a+r FCBF -R && E:\biocbuild\bbs-3.19-bioc\R\bin\R.exe CMD build --keep-empty-dirs --no-resave-data FCBF StartedAt: 2024-10-16 19:07:42 -0400 (Wed, 16 Oct 2024) EndedAt: 2024-10-16 19:09:54 -0400 (Wed, 16 Oct 2024) EllapsedTime: 132.5 seconds RetCode: 0 Status: OK PackageFile: FCBF_2.12.0.tar.gz PackageFileSize: 2.902 MiB