Package: FCBF Version: 2.12.0 Command: rm -rf FCBF.buildbin-libdir && mkdir FCBF.buildbin-libdir && E:\biocbuild\bbs-3.19-bioc\R\bin\R.exe CMD INSTALL --build --library=FCBF.buildbin-libdir FCBF_2.12.0.tar.gz StartedAt: 2024-10-17 07:47:26 -0400 (Thu, 17 Oct 2024) EndedAt: 2024-10-17 07:47:59 -0400 (Thu, 17 Oct 2024) EllapsedTime: 32.3 seconds RetCode: 0 Status: OK PackageFile: FCBF_2.12.0.zip PackageFileSize: 2.947 MiB