Package: FCBF Version: 2.12.0 Command: /Library/Frameworks/R.framework/Resources/bin/R CMD INSTALL FCBF StartedAt: 2024-10-16 15:22:16 -0400 (Wed, 16 Oct 2024) EndedAt: 2024-10-16 15:23:06 -0400 (Wed, 16 Oct 2024) EllapsedTime: 50.2 seconds RetCode: 0 Status: OK