Package: ExpressionAtlas Version: 1.32.0 Command: /Library/Frameworks/R.framework/Resources/bin/R CMD build --keep-empty-dirs --no-resave-data ExpressionAtlas StartedAt: 2024-10-16 19:11:21 -0400 (Wed, 16 Oct 2024) EndedAt: 2024-10-16 19:12:43 -0400 (Wed, 16 Oct 2024) EllapsedTime: 82.0 seconds RetCode: 0 Status: OK PackageFile: ExpressionAtlas_1.32.0.tar.gz PackageFileSize: 319 KiB