Package: ExpressionAtlas Version: 1.32.0 Command: /Library/Frameworks/R.framework/Resources/bin/R CMD check --install=check:ExpressionAtlas.install-out.txt --library=/Library/Frameworks/R.framework/Resources/library --no-vignettes --timings ExpressionAtlas_1.32.0.tar.gz StartedAt: 2024-06-10 15:28:56 -0400 (Mon, 10 Jun 2024) EndedAt: 2024-06-10 15:34:37 -0400 (Mon, 10 Jun 2024) EllapsedTime: 340.9 seconds RetCode: 0 Status: OK CheckDir: ExpressionAtlas.Rcheck Warnings: 0