Package: ExploreModelMatrix Version: 1.16.0 Command: chmod a+r ExploreModelMatrix -R && E:\biocbuild\bbs-3.19-bioc\R\bin\R.exe CMD build --keep-empty-dirs --no-resave-data ExploreModelMatrix StartedAt: 2024-10-16 19:05:34 -0400 (Wed, 16 Oct 2024) EndedAt: 2024-10-16 19:06:02 -0400 (Wed, 16 Oct 2024) EllapsedTime: 28.8 seconds RetCode: 0 Status: OK PackageFile: ExploreModelMatrix_1.16.0.tar.gz PackageFileSize: 2.321 MiB