Package: ExploreModelMatrix Version: 1.16.0 Command: F:\biocbuild\bbs-3.19-bioc\R\bin\R.exe CMD check --no-multiarch --install=check:ExploreModelMatrix.install-out.txt --library=F:\biocbuild\bbs-3.19-bioc\R\library --no-vignettes --timings ExploreModelMatrix_1.16.0.tar.gz StartedAt: 2024-06-27 01:33:18 -0400 (Thu, 27 Jun 2024) EndedAt: 2024-06-27 01:34:48 -0400 (Thu, 27 Jun 2024) EllapsedTime: 90.4 seconds RetCode: 0 Status: OK CheckDir: ExploreModelMatrix.Rcheck Warnings: 0