Package: ExploreModelMatrix Version: 1.16.0 Command: chmod a+r ExploreModelMatrix -R && F:\biocbuild\bbs-3.19-bioc\R\bin\R.exe CMD build --keep-empty-dirs --no-resave-data ExploreModelMatrix StartedAt: 2024-06-26 18:47:31 -0400 (Wed, 26 Jun 2024) EndedAt: 2024-06-26 18:48:00 -0400 (Wed, 26 Jun 2024) EllapsedTime: 29.0 seconds RetCode: 0 Status: OK PackageFile: ExploreModelMatrix_1.16.0.tar.gz PackageFileSize: 2.321 MiB