Package: ExploreModelMatrix Version: 1.16.0 Command: /home/biocbuild/bbs-3.19-bioc/R/bin/R CMD INSTALL ExploreModelMatrix StartedAt: 2024-10-16 16:19:01 -0400 (Wed, 16 Oct 2024) EndedAt: 2024-10-16 16:19:09 -0400 (Wed, 16 Oct 2024) EllapsedTime: 8.1 seconds RetCode: 0 Status: OK