Package: ExploreModelMatrix Version: 1.16.0 Maintainer: Charlotte Soneson MaintainerEmail: charlottesoneson at gmail.com git_url: https://git.bioconductor.org/packages/ExploreModelMatrix git_branch: RELEASE_3_19 git_last_commit: 761ea95 git_last_commit_date: 2024-04-30 11:22:39 -0400 (Tue, 30 Apr 2024)