Package: ExperimentSubset Version: 1.14.0 Command: rm -rf ExperimentSubset.buildbin-libdir && mkdir ExperimentSubset.buildbin-libdir && E:\biocbuild\bbs-3.19-bioc\R\bin\R.exe CMD INSTALL --build --library=ExperimentSubset.buildbin-libdir ExperimentSubset_1.14.0.tar.gz StartedAt: 2024-10-17 07:46:56 -0400 (Thu, 17 Oct 2024) EndedAt: 2024-10-17 07:48:25 -0400 (Thu, 17 Oct 2024) EllapsedTime: 88.6 seconds RetCode: 0 Status: OK PackageFile: ExperimentSubset_1.14.0.zip PackageFileSize: 707.7 KiB