Package: ExperimentSubset Version: 1.14.0 Command: /Library/Frameworks/R.framework/Resources/bin/R CMD build --keep-empty-dirs --no-resave-data ExperimentSubset StartedAt: 2024-06-09 16:38:02 -0400 (Sun, 09 Jun 2024) EndedAt: 2024-06-09 16:38:55 -0400 (Sun, 09 Jun 2024) EllapsedTime: 53.1 seconds RetCode: 0 Status: OK PackageFile: ExperimentSubset_1.14.0.tar.gz PackageFileSize: 307.2 KiB