Package: ExperimentSubset Version: 1.14.0 Command: /Library/Frameworks/R.framework/Resources/bin/R CMD build --keep-empty-dirs --no-resave-data ExperimentSubset StartedAt: 2024-10-17 00:18:47 -0400 (Thu, 17 Oct 2024) EndedAt: 2024-10-17 00:19:48 -0400 (Thu, 17 Oct 2024) EllapsedTime: 60.5 seconds RetCode: 0 Status: OK PackageFile: ExperimentSubset_1.14.0.tar.gz PackageFileSize: 307.4 KiB